BEGIN:VCALENDAR
VERSION:2.0
PRODID: -//CMS 5.0 //NONSGML //DE
BEGIN:VEVENT
SUMMARY:Jugendchorprobe
DESCRIPTION:
UID:359291@www.nak-stuttgart-leonberg.de
LOCATION:Ditzingen
CATEGORIES:Musik,Jugend,Bezirk (und alle Gemeinden)
X-ORGANIZER:
STATUS:CONFIRMED
CLASS:PUBLIC
DTSTART:20260320T180000Z
DTEND:20260320T180000Z
DTSTAMP:20260420T172930Z
CREATED:20260217T234552Z
LAST-MODIFIED:20260217T234624Z
END:VEVENT
BEGIN:VEVENT
SUMMARY:Bezirkskindergottesdienst
DESCRIPTION:<p>Zu diesem Gottesdienst sind die Kinder aus dem Bezirk Sin
 delfingen und die NAKaronies herzlich eingeladen.</p>\n
UID:359292@www.nak-stuttgart-leonberg.de
LOCATION:S-Weilimdorf
CATEGORIES:Bezirk (und alle Gemeinden),Gottesdienst,Kinder
X-ORGANIZER:
STATUS:CONFIRMED
CLASS:PUBLIC
DTSTART:20260322T090000Z
DTEND:20260322T090000Z
DTSTAMP:20260420T172930Z
CREATED:20260217T234628Z
LAST-MODIFIED:20260217T234756Z
END:VEVENT
BEGIN:VEVENT
SUMMARY:Gruppengottesdienst
DESCRIPTION:<p>Gemeinsamer Gottesdienst für die Heckengäu-Gemeinden Le
 onberg, Heimsheim, Höfingen, Rutesheim und Weissach.</p>\n
UID:359294@www.nak-stuttgart-leonberg.de
LOCATION:Rutesheim
CATEGORIES:Leonberg,Rutesheim,Leonberg-Höfingen,Gottesdienst,Weissach,Heimsheim,Bezirk (nur Bezirk)
X-ORGANIZER:
STATUS:CONFIRMED
CLASS:PUBLIC
DTSTART:20260325T190000Z
DTEND:20260325T190000Z
DTSTAMP:20260420T172930Z
CREATED:20260217T234836Z
LAST-MODIFIED:20260217T234858Z
END:VEVENT
BEGIN:VEVENT
SUMMARY:Gruppengottesdienst
DESCRIPTION:<p>Gemeinsamer Gottesdienst für die Weilgäu-Gemeinden Ditz
 ingen, Gerlingen, Heimerdingen, Hemmingen, Schwieberdingen und S-Weilim
 dorf.</p>\n
UID:359295@www.nak-stuttgart-leonberg.de
LOCATION:S-Weilimdorf
CATEGORIES:Bezirk (nur Bezirk),Stuttgart-Weilimdorf,Ditzingen,Gottesdienst,Ditzingen-Heimerdingen,Schwieberdingen,Hemmingen,Gerlingen
X-ORGANIZER:
STATUS:CONFIRMED
CLASS:PUBLIC
DTSTART:20260325T190000Z
DTEND:20260325T190000Z
DTSTAMP:20260420T172930Z
CREATED:20260217T234919Z
LAST-MODIFIED:20260217T234943Z
END:VEVENT
BEGIN:VEVENT
SUMMARY:Gottesdienst mit Apostel Jürgen Loy
DESCRIPTION:<p>Zu diesem Gottesdienst ist die Gemeinde Heimsheim herzlic
 h eingeladen.</p>\n
UID:359296@www.nak-stuttgart-leonberg.de
LOCATION:Heimerdingen
CATEGORIES:Gottesdienst,Ditzingen-Heimerdingen,Heimsheim,Bezirk (nur Bezirk)
X-ORGANIZER:
STATUS:CONFIRMED
CLASS:PUBLIC
DTSTART:20260326T190000Z
DTEND:20260326T190000Z
DTSTAMP:20260420T172930Z
CREATED:20260217T234947Z
LAST-MODIFIED:20260217T235103Z
END:VEVENT
BEGIN:VEVENT
SUMMARY:Gottesdienst zu Palmsonntag
DESCRIPTION:
UID:359297@www.nak-stuttgart-leonberg.de
LOCATION:alle Gemeinden
CATEGORIES:Bezirk (und alle Gemeinden),Gottesdienst
X-ORGANIZER:
STATUS:CONFIRMED
CLASS:PUBLIC
DTSTART:20260329T073000Z
DTEND:20260329T073000Z
DTSTAMP:20260420T172930Z
CREATED:20260217T235107Z
LAST-MODIFIED:20260217T235138Z
END:VEVENT
BEGIN:VEVENT
SUMMARY:Seniorenchorprobe
DESCRIPTION:
UID:359298@www.nak-stuttgart-leonberg.de
LOCATION:Leonberg
CATEGORIES:Musik,Bezirk (und alle Gemeinden),Senioren
X-ORGANIZER:
STATUS:CONFIRMED
CLASS:PUBLIC
DTSTART:20260330T140000Z
DTEND:20260330T140000Z
DTSTAMP:20260420T172930Z
CREATED:20260217T235142Z
LAST-MODIFIED:20260217T235216Z
END:VEVENT
BEGIN:VEVENT
SUMMARY:Kinderchorprobe für das Musical
DESCRIPTION:
UID:359300@www.nak-stuttgart-leonberg.de
LOCATION:Leonberg
CATEGORIES:Bezirk (und alle Gemeinden),Kinder,Musik
X-ORGANIZER:
STATUS:CONFIRMED
CLASS:PUBLIC
DTSTART:20260326T153000Z
DTEND:20260326T153000Z
DTSTAMP:20260420T172930Z
CREATED:20260217T235507Z
LAST-MODIFIED:20260217T235523Z
END:VEVENT
BEGIN:VEVENT
SUMMARY:Gruppengottesdienst
DESCRIPTION:<p>Gemeinsamer Gottesdienst für die Heckengäu-Gemeinden Le
 onberg, Heimsheim, Höfingen, Rutesheim und Weissach.</p>\n
UID:362997@www.nak-stuttgart-leonberg.de
LOCATION:Leonberg
CATEGORIES:Heimsheim,Gottesdienst,Leonberg-Höfingen,Weissach,Leonberg,Rutesheim,Bezirk (nur Bezirk)
X-ORGANIZER:
STATUS:CONFIRMED
CLASS:PUBLIC
DTSTART:20260429T180000Z
DTEND:20260429T180000Z
DTSTAMP:20260420T172930Z
CREATED:20260402T183130Z
LAST-MODIFIED:20260402T183148Z
END:VEVENT
BEGIN:VEVENT
SUMMARY:Gruppengottesdienst
DESCRIPTION:<p>Gemeinsamer Gottesdienst für die Weilgäu-Gemeinden Ditz
 ingen, Gerlingen, Heimerdingen, Hemmingen, Schwieberdingen und S-Weilim
 dorf.</p>\n
UID:362998@www.nak-stuttgart-leonberg.de
LOCATION:Schwieberdingen
CATEGORIES:Stuttgart-Weilimdorf,Ditzingen,Bezirk (nur Bezirk),Gottesdienst,Ditzingen-Heimerdingen,Schwieberdingen,Hemmingen,Gerlingen
X-ORGANIZER:
STATUS:CONFIRMED
CLASS:PUBLIC
DTSTART:20260429T180000Z
DTEND:20260429T180000Z
DTSTAMP:20260420T172930Z
CREATED:20260402T183158Z
LAST-MODIFIED:20260402T183218Z
END:VEVENT
BEGIN:VEVENT
SUMMARY:Kinderchorprobe für das Musical
DESCRIPTION:
UID:362999@www.nak-stuttgart-leonberg.de
LOCATION:Leonberg
CATEGORIES:Musik,Kinder,Bezirk (und alle Gemeinden)
X-ORGANIZER:
STATUS:CONFIRMED
CLASS:PUBLIC
DTSTART:20260430T143000Z
DTEND:20260430T143000Z
DTSTAMP:20260420T172930Z
CREATED:20260402T183232Z
LAST-MODIFIED:20260402T183248Z
END:VEVENT
BEGIN:VEVENT
SUMMARY:Kinderchorprobe für das Musical
DESCRIPTION:
UID:363000@www.nak-stuttgart-leonberg.de
LOCATION:Leonberg
CATEGORIES:Musik,Bezirk (und alle Gemeinden),Kinder
X-ORGANIZER:
STATUS:CONFIRMED
CLASS:PUBLIC
DTSTART:20260416T143000Z
DTEND:20260416T143000Z
DTSTAMP:20260420T172930Z
CREATED:20260402T183302Z
LAST-MODIFIED:20260402T183313Z
END:VEVENT
BEGIN:VEVENT
SUMMARY:Probe der NAKaronies
DESCRIPTION:
UID:363001@www.nak-stuttgart-leonberg.de
LOCATION:Leonberg
CATEGORIES:Musik,Bezirk (und alle Gemeinden)
X-ORGANIZER:
STATUS:CONFIRMED
CLASS:PUBLIC
DTSTART:20260417T170000Z
DTEND:20260417T170000Z
DTSTAMP:20260420T172930Z
CREATED:20260402T183329Z
LAST-MODIFIED:20260402T183350Z
END:VEVENT
BEGIN:VEVENT
SUMMARY:Jugendchorprobe in Ditzingen
DESCRIPTION:
UID:363002@www.nak-stuttgart-leonberg.de
LOCATION:Ditzingen
CATEGORIES:Musik,Jugendchor,Jugend
X-ORGANIZER:
STATUS:CONFIRMED
CLASS:PUBLIC
DTSTART:20260424T170000Z
DTEND:20260424T180000Z
DTSTAMP:20260420T172930Z
CREATED:20260402T183412Z
LAST-MODIFIED:20260420T073839Z
END:VEVENT
BEGIN:VEVENT
SUMMARY:Gottesdienst zu Karfreitag
DESCRIPTION:
UID:363003@www.nak-stuttgart-leonberg.de
LOCATION:alle Gemeinden
CATEGORIES:Gottesdienst,Bezirk (und alle Gemeinden)
X-ORGANIZER:
STATUS:CONFIRMED
CLASS:PUBLIC
DTSTART:20260403T073000Z
DTEND:20260403T073000Z
DTSTAMP:20260420T172930Z
CREATED:20260402T183454Z
LAST-MODIFIED:20260402T183728Z
END:VEVENT
BEGIN:VEVENT
SUMMARY:Übertragung des Gottesdienstes zu Ostern
DESCRIPTION:<p>Übertragung des Gottesdienstes mit Bezirksapostel Michae
 l Ehrich aus Kempten</p>\n
UID:363004@www.nak-stuttgart-leonberg.de
LOCATION:Übertragungsgemeinden
CATEGORIES:Gottesdienst,Bezirk (und alle Gemeinden)
X-ORGANIZER:
STATUS:CONFIRMED
CLASS:PUBLIC
DTSTART:20260405T080000Z
DTEND:20260405T080000Z
DTSTAMP:20260420T172930Z
CREATED:20260402T183732Z
LAST-MODIFIED:20260402T185020Z
END:VEVENT
BEGIN:VEVENT
SUMMARY:Jugend Fresh-up Gottesdienst mit Bischof Matthias Grauer
DESCRIPTION:
UID:363005@www.nak-stuttgart-leonberg.de
LOCATION:S-Weilimdorf
CATEGORIES:Bezirk (und alle Gemeinden),Gottesdienst,Jugend
X-ORGANIZER:
STATUS:CONFIRMED
CLASS:PUBLIC
DTSTART:20260415T180000Z
DTEND:20260415T180000Z
DTSTAMP:20260420T172930Z
CREATED:20260402T183954Z
LAST-MODIFIED:20260402T184149Z
END:VEVENT
BEGIN:VEVENT
SUMMARY:Konfirmanden-Kickoff-Gottesdienst
DESCRIPTION:<p>Zu diesem Gottesdienst sind alle Konfirmanden:innen der J
 ahrgänge 2013/2014 und deren Eltern herzlich eingeladen.</p>\n
UID:363006@www.nak-stuttgart-leonberg.de
LOCATION: Leonberg
CATEGORIES:Jugend,Leonberg,Gottesdienst,Kinder,Bezirk (nur Bezirk)
X-ORGANIZER:
STATUS:CONFIRMED
CLASS:PUBLIC
DTSTART:20260426T080000Z
DTEND:20260426T080000Z
DTSTAMP:20260420T172930Z
CREATED:20260402T184154Z
LAST-MODIFIED:20260420T085642Z
END:VEVENT
BEGIN:VEVENT
SUMMARY:Glaubensimpuls
DESCRIPTION:<p>Inhalt:</p>\n\n<ul>\n	<li>Wie erlebst du die Passion und 
 die nachösterliche Zeit?</li>\n	<li>Was gibt dir Hoffnung auf die Aufe
 rstehung in Gegenwart und Zukunft?</li>\n</ul>\n
UID:363007@www.nak-stuttgart-leonberg.de
LOCATION:Hemmingen
CATEGORIES:Hemmingen
X-ORGANIZER:
STATUS:CONFIRMED
CLASS:PUBLIC
DTSTART:20260426T133000Z
DTEND:20260426T133000Z
DTSTAMP:20260420T172930Z
CREATED:20260402T184629Z
LAST-MODIFIED:20260420T085602Z
END:VEVENT
BEGIN:VEVENT
SUMMARY:Jugendchorprobe in Ditzingen
DESCRIPTION:
UID:363715@www.nak-stuttgart-leonberg.de
LOCATION:Ditzingen
CATEGORIES:Jugend,Younaction,Jugendchor
X-ORGANIZER:
STATUS:CONFIRMED
CLASS:PUBLIC
DTSTART:20260508T170000Z
DTEND:20260508T170000Z
DTSTAMP:20260420T172930Z
CREATED:20260417T105125Z
LAST-MODIFIED:20260420T073757Z
END:VEVENT
BEGIN:VEVENT
SUMMARY:Jugendchorprobe in Stuttgart-Süd
DESCRIPTION:<p>inkl. Mittagessen</p>\n
UID:363716@www.nak-stuttgart-leonberg.de
LOCATION:Stuttgart-Süd
CATEGORIES:Jugend,Jugendchor,Younaction
X-ORGANIZER:
STATUS:CONFIRMED
CLASS:PUBLIC
DTSTART:20260517T091500Z
DTEND:20260517T120000Z
DTSTAMP:20260420T172930Z
CREATED:20260417T105243Z
LAST-MODIFIED:20260420T083225Z
END:VEVENT
BEGIN:VEVENT
SUMMARY:Jugendchorprobe in Merklingen
DESCRIPTION:<p>Nach dem Jugendgottesdienst</p>\n
UID:363717@www.nak-stuttgart-leonberg.de
LOCATION:Merklingen
CATEGORIES:Jugendchor,Younaction,Jugend
X-ORGANIZER:
STATUS:CONFIRMED
CLASS:PUBLIC
DTSTART:20260614T090000Z
DTEND:20260614T100000Z
DTSTAMP:20260420T172930Z
CREATED:20260417T110307Z
LAST-MODIFIED:20260420T073740Z
END:VEVENT
BEGIN:VEVENT
SUMMARY:Generalprobe Musical in Leonberg
DESCRIPTION:
UID:363718@www.nak-stuttgart-leonberg.de
LOCATION:Leonberg
CATEGORIES:Jugendchor,Younaction,Jugend
X-ORGANIZER:
STATUS:CONFIRMED
CLASS:PUBLIC
DTSTART:20260620T105600Z
DTEND:20260620T105600Z
DTSTAMP:20260420T172930Z
CREATED:20260417T111152Z
LAST-MODIFIED:20260420T074658Z
END:VEVENT
BEGIN:VEVENT
SUMMARY:Aufführung Musical
DESCRIPTION:<p>Anspielprobe: 14:00 Uhr</p>\n\n<p>Auffühung: 18:00 Uhr</
 p>\n
UID:363719@www.nak-stuttgart-leonberg.de
LOCATION:Leonberg
CATEGORIES:Leonberg,Younaction,Jugendchor,Jugend
X-ORGANIZER:
STATUS:CONFIRMED
CLASS:PUBLIC
DTSTART:20260627T120000Z
DTEND:20260627T160000Z
DTSTAMP:20260420T172930Z
CREATED:20260417T111240Z
LAST-MODIFIED:20260420T085516Z
END:VEVENT
BEGIN:VEVENT
SUMMARY:Übertragung des Gottesdienstes zu Pfingsten
DESCRIPTION:<p>Weltweite Übertragung des Gottesdienstes zu Pfingsten mi
 t Stammapostel Jean-Luc Schneider aus Kapstadt (Südafrika). In diesem 
 Gottesdienst findet der Wechsel der internationalen Kirchenleitung stat
 t:&nbsp;Stammapostel Jean-Luc Schneider wird Stammapostelhelfer Helge M
 utschler als seinen Nachfolger ordinieren und danch in den Ruhestand ve
 rabschiedet.</p>\n\n<p>&nbsp;</p>\n\n<p>Der Gottesdienst wird in Übert
 ragungsgemeinden unseres Kirchenbezirks (siehe Gemeindesuche) und per Y
 ouTube übertragen.</p>\n
UID:363899@www.nak-stuttgart-leonberg.de
LOCATION:
CATEGORIES:Bezirk (nur Bezirk),Stuttgart-Süd,Ditzingen,Rutesheim,Leonberg,Gerlingen,Heimsheim,Schwieberdingen,Hemmingen
X-ORGANIZER:
STATUS:CONFIRMED
CLASS:PUBLIC
DTSTART:20260524T080000Z
DTEND:20260524T080000Z
DTSTAMP:20260420T172930Z
CREATED:20260420T085901Z
LAST-MODIFIED:20260420T090629Z
END:VEVENT
END:VCALENDAR
